Workbook
Name Print_Area_MI: 'Supporting Schedule'!#REF!

Sheet Supporting Schedule
A1: Your Input is Required in all Yellow Areas
A2: Please complete the Supporting Schedules first (this page).
A3: Your totals from these schedules will automatically be incorporated
A4: into the Income and Expense form.
A6: PLEASE CALL IF YOU HAVE ANY QUESTIONS OR COMMENTS
A7: Eric Kassoff, Esquire | F7: (202) 457-7805
E8: Kevin Kozlowski, Esquire | F8: (202) 457-7825
A9: Emily Betsill, Esquire | F9: (202) 457-7890
A10: Rhett Tatum, Esquire | F10: (202) 457-7824
A12: SUPPORTING SCHEDULES (HOTEL / MOTEL)
A14: NAME AND LOCATION OF PROPERTY | F14: OWNER AND ADDRESS OF RECORD
F19: Tax Account No(s).:
E21: 2024 | F21: 2025 | G21: 2026
B22: REVENUE FROM OPERATIONS
C24: 3. Other Income
D33: Totals: | E33: =SUM(E25:E32) -> 0 | F33: =SUM(F25:F32) -> 0 | G33: =SUM(G25:G32) -> 0
C35: 4. Retail Tenants
D44: Totals: | E44: =SUM(E36:E43) -> 0 | F44: =SUM(F36:F43) -> 0 | G44: =SUM(G36:G43) -> 0
B46: DEPARTMENTAL EXPENSES:
C48: 7. Other Costs
D57: Totals: | E57: =SUM(E49:E56) -> 0 | F57: =SUM(F49:F56) -> 0 | G57: =SUM(G49:G56) -> 0
B59: UNALLOCATED EXPENSES:
C61: 8. Administrative Costs
D70: Totals: | E70: =SUM(E62:E69) -> 0 | F70: =SUM(F62:F69) -> 0 | G70: =SUM(G62:G69) -> 0
C72: 11. Maintenance & Repairs
D81: Totals: | E81: =SUM(E73:E80) -> 0 | F81: =SUM(F73:F80) -> 0 | G81: =SUM(G73:G80) -> 0
B83: OTHER EXPENSES:
C85: 18. Reserves for Replacements
D94: Totals: | E94: =SUM(E86:E93) -> 0 | F94: =SUM(F86:F93) -> 0 | G94: =SUM(G86:G93) -> 0
C96: 19. Capital Expenditures
D105: Totals: | E105: =SUM(E97:E104) -> 0 | F105: =SUM(F97:F104) -> 0 | G105: =SUM(G97:G104) -> 0

Sheet Income & Expense Form
D1: HOTEL/MOTEL INCOME QUESTIONNAIRE
D2: FOR THE 36 MONTHS FROM 1/1/24 TO 12/31/26
A5: NAME AND LOCATION OF PROPERTY | F5: OWNER AND ADDRESS OF RECORD
A6: ='Supporting Schedule'!A15 -> 0 | F6: ='Supporting Schedule'!F15 -> 0
A7: ='Supporting Schedule'!A16 -> 0 | F7: ='Supporting Schedule'!F16 -> 0
A8: ='Supporting Schedule'!A17 -> 0 | F8: ='Supporting Schedule'!F17 -> 0
A9: ='Supporting Schedule'!A18 -> 0 | F9: ='Supporting Schedule'!F18 -> 0
A10: ='Supporting Schedule'!A19 -> 0 | F10: ='Supporting Schedule'!F19 -> Tax Account No(s).: | H10: ='Supporting Schedule'!G19 -> 0
A11: Total Number of Rentable Rooms: __________ | F11: Number of Parking Spaces: __________
F13: ='Supporting Schedule'!E21 -> 2024 | G13: ='Supporting Schedule'!F21 -> 2025 | H13: ='Supporting Schedule'!G21 -> 2026
A14: Average Rate/Room/Day | E14: $
A15: Average Number of Rooms Occupied/Day | E15: $
A16: Percentage of Occupancy for the Year | E16: $
A17: REVPAR (Revenue Per Available Room)
A18: Total Number of Beds_____________________ Annual Occupancy Rate_____________________
A20: REVENUE FROM OPERATIONS: | F20: 2024 | G20: 2025 | H20: 2026
A21: 1. Room Rentals | E21: $
A22: 2. Food & Beverage | E22: $
A23: 3. Other Income (List) | E23: $ | F23: ='Supporting Schedule'!E33 -> 0 | G23: ='Supporting Schedule'!F33 -> 0 | H23: ='Supporting Schedule'!G33 -> 0
A24: 4. Retail Tenants (List) | E24: $ | F24: ='Supporting Schedule'!E44 -> 0 | G24: ='Supporting Schedule'!F44 -> 0 | H24: ='Supporting Schedule'!G44 -> 0
A26: DEPARTMENTAL EXPENSES: (Cost of Goods Sold, Departmental Wages, Etc.)
A27: 5. Rooms | E27: $
A28: 6. Food & Beverage | E28: $
A29: 7. Other Costs (List) | E29: $ | F29: ='Supporting Schedule'!E57 -> 0 | G29: ='Supporting Schedule'!F57 -> 0 | H29: ='Supporting Schedule'!G57 -> 0
A31: UNALLOCATED EXPENSES:
A32: 8. Administrative Costs (List) | E32: $ | F32: ='Supporting Schedule'!E70 -> 0 | G32: ='Supporting Schedule'!F70 -> 0 | H32: ='Supporting Schedule'!G70 -> 0
A33: 9. Marketing | E33: $
A34: 10. Electricity & Utilities | E34: $
A35: 11. Maintenance & Repairs (List) | E35: $ | F35: ='Supporting Schedule'!E81 -> 0 | G35: ='Supporting Schedule'!F81 -> 0 | H35: ='Supporting Schedule'!G81 -> 0
A36: 12. Insurance | E36: $
A37: 13. Management Fee | E37: $
A38: 14. Franchise Fee | E38: $
A40: OTHER EXPENSES:
A41: 15. Real Estate Taxes | E41: $
A42: 16. Building Depreciation | E42: $
A43: 17. Mortgage Interest Payment | E43: $
A44: 18. Reserves for Replacements (List) | E44: $ | F44: ='Supporting Schedule'!E94 -> 0 | G44: ='Supporting Schedule'!F94 -> 0 | H44: ='Supporting Schedule'!G94 -> 0
A45: 19. Capital Expenditures (List) | E45: $ | F45: ='Supporting Schedule'!E105 -> 0 | G45: ='Supporting Schedule'!F105 -> 0 | H45: ='Supporting Schedule'!G105 -> 0
A46: 20. Furn., Fixtures & Equip. Total Values | E46: $
A47: 21. Other Intangible Values Assigned | E47: $
...
